BEGIN:VCALENDAR
VERSION:2.0
PRODID:-//Tukios.com/
BEGIN:VEVENT
UID:42509ee8-d982-4d34-aca3-1bf4111901e2@www.heritagecarefl.com
DTSTAMP:20260420T061430Z
DTSTART:20260421T150000Z
DTEND:20260421T160000Z
SUMMARY:Graveside Service
DESCRIPTION:Sylvan Abbey Memorial Park, Clearwater Florida
URL:https://www.heritagecarefl.com/obituaries/michael-brodsky
LOCATION: 2860 Sunset Point Rd  Clearwater FL 33759
GEO:27.99414;-82.719118
END:VEVENT
END:VCALENDAR