BEGIN:VCALENDAR
VERSION:2.0
PRODID:-//Tukios.com/
BEGIN:VEVENT
UID:04b3bfc4-7833-4d93-ac41-613d3e3bfff8@www.heritagecarefl.com
DTSTAMP:20260424T051540Z
DTSTART:20260426T180000Z
DTEND:20260426T190000Z
SUMMARY:Graveside Service
DESCRIPTION:
URL:https://www.heritagecarefl.com/obituaries/eileen-levin
LOCATION: 2860 Sunset Point Rd  Clearwater FL 33759
GEO:27.99414;-82.719118
END:VEVENT
END:VCALENDAR